BEGIN:VCALENDAR
VERSION:2.0
PRODID:-//International Siddhashram Shakti Centre - ECPv6.15.20//NONSGML v1.0//EN
CALSCALE:GREGORIAN
METHOD:PUBLISH
X-ORIGINAL-URL:https://siddhashram.com
X-WR-CALDESC:Events for International Siddhashram Shakti Centre
REFRESH-INTERVAL;VALUE=DURATION:PT1H
X-Robots-Tag:noindex
X-PUBLISHED-TTL:PT1H
BEGIN:VTIMEZONE
TZID:UTC
BEGIN:STANDARD
TZOFFSETFROM:+0000
TZOFFSETTO:+0000
TZNAME:UTC
DTSTART:20240101T000000
END:STANDARD
END:VTIMEZONE
BEGIN:VEVENT
DTSTART;TZID=UTC:20251206T170000
DTEND;TZID=UTC:20251206T190000
DTSTAMP:20260423T184555
CREATED:20251205T093622Z
LAST-MODIFIED:20251205T093622Z
UID:35977-1765040400-1765047600@siddhashram.com
SUMMARY:Achieve success\, growth\, and prosperity through the Hanuman Chalisa.
DESCRIPTION:To attain success\, growth\, and prosperity through the Hanuman Chalisa\, regularly chant the hymn with devotion\, emphasizing the qualities of courage and self-confidence it nurtures. Include specific mantras for strength\, and practice with purity\, focus\, and positivity\, especially during dedicated sessions such as a 40-day sadhana\, to invoke divine blessings for overcoming challenges and promoting well-being. Trust in the guidance of HH Shri Rajrajeshwar Guruji.
URL:https://siddhashram.com/event/achieve-success-growth-and-prosperity-through-the-hanuman-chalisa/
LOCATION:international Siddhashram Shakti Centre\, 22 Palmerston Road\, Harrow\, london\, HA3 7RR\, United Kingdom
CATEGORIES:Events,Recent Events V2
ATTACH;FMTTYPE=image/jpeg:https://siddhashram.com/wp-content/uploads/2025/12/web-evets-poster-.jpg
ORGANIZER;CN="Int. Siddhashram Shakti Center%2C UK":MAILTO:events@siddhashram.com
END:VEVENT
END:VCALENDAR