BEGIN:VCALENDAR
VERSION:2.0
PRODID:-//International Siddhashram Shakti Centre - ECPv6.15.20//NONSGML v1.0//EN
CALSCALE:GREGORIAN
METHOD:PUBLISH
X-WR-CALNAME:International Siddhashram Shakti Centre
X-ORIGINAL-URL:https://siddhashram.com
X-WR-CALDESC:Events for International Siddhashram Shakti Centre
REFRESH-INTERVAL;VALUE=DURATION:PT1H
X-Robots-Tag:noindex
X-PUBLISHED-TTL:PT1H
BEGIN:VTIMEZONE
TZID:UTC
BEGIN:STANDARD
TZOFFSETFROM:+0000
TZOFFSETTO:+0000
TZNAME:UTC
DTSTART:20240101T000000
END:STANDARD
END:VTIMEZONE
BEGIN:VEVENT
DTSTART;TZID=UTC:20251116T110000
DTEND;TZID=UTC:20251116T170000
DTSTAMP:20260424T052754
CREATED:20251114T214801Z
LAST-MODIFIED:20251114T214801Z
UID:35940-1763290800-1763312400@siddhashram.com
SUMMARY:The Handloom from Odisha showcased in London.
DESCRIPTION:  \nOdisha handloom textiles can be purchased in London via specialist exhibitions\, pop-up events\, and online shops. There are no permanent brick-and-mortar stores solely dedicated to these products; instead\, their availability typically relies on temporary cultural events that support local charities and communities. To promote these textiles\, we have organized an exhibition at the International Siddhashram Shakti Centre in Harrow\, London.
URL:https://siddhashram.com/event/the-handloom-from-odisha-showcased-in-london/
LOCATION:international Siddhashram Shakti Centre\, 22 Palmerston Road\, Harrow\, london\, HA3 7RR\, United Kingdom
CATEGORIES:Events,Recent Events V2
ATTACH;FMTTYPE=image/jpeg:https://siddhashram.com/wp-content/uploads/2025/11/—Pngtree—vibrant-textile-tapestry_13516149-scaled.jpeg
ORGANIZER;CN="Int. Siddhashram Shakti Center%2C UK":MAILTO:events@siddhashram.com
END:VEVENT
END:VCALENDAR