BEGIN:VCALENDAR
VERSION:2.0
PRODID:-//International Siddhashram Shakti Centre - ECPv6.15.20//NONSGML v1.0//EN
CALSCALE:GREGORIAN
METHOD:PUBLISH
X-WR-CALNAME:International Siddhashram Shakti Centre
X-ORIGINAL-URL:https://siddhashram.com
X-WR-CALDESC:Events for International Siddhashram Shakti Centre
REFRESH-INTERVAL;VALUE=DURATION:PT1H
X-Robots-Tag:noindex
X-PUBLISHED-TTL:PT1H
BEGIN:VTIMEZONE
TZID:UTC
BEGIN:STANDARD
TZOFFSETFROM:+0000
TZOFFSETTO:+0000
TZNAME:UTC
DTSTART:20240101T000000
END:STANDARD
END:VTIMEZONE
BEGIN:VEVENT
DTSTART;TZID=UTC:20250823T170000
DTEND;TZID=UTC:20250823T190000
DTSTAMP:20260424T094005
CREATED:20250820T044131Z
LAST-MODIFIED:20250821T045900Z
UID:35721-1755968400-1755975600@siddhashram.com
SUMMARY:Shani sadhna with Hanuman Chalisa by Guruji.
DESCRIPTION:To alleviate the unfavorable impacts of Shani (Saturn) in your astrological chart\, you can integrate the daily recitation of the Hanuman Chalisa with the practice of Shani mantra sadhana. This practice includes chanting the Hanuman Chalisa each day while also reciting Shani mantras to seek the blessings of Lord Hanuman and Shani Dev. Everyone is invited to join this mantra sadhana led by HH Shri Rajrajeshwar Guruji at the International Siddhashram Shakti Centre in London.
URL:https://siddhashram.com/event/shani-sadhna-with-hanuman-chalisa-by-guruji/
LOCATION:international Siddhashram Shakti Centre\, 22 Palmerston Road\, Harrow\, london\, HA3 7RR\, United Kingdom
CATEGORIES:Events,Recent Events V2
ATTACH;FMTTYPE=image/jpeg:https://siddhashram.com/wp-content/uploads/2025/08/web-evets-poster-.jpg
ORGANIZER;CN="Int. Siddhashram Shakti Center%2C UK":MAILTO:events@siddhashram.com
END:VEVENT
END:VCALENDAR