BEGIN:VCALENDAR
VERSION:2.0
PRODID:-//International Siddhashram Shakti Centre - ECPv6.15.20//NONSGML v1.0//EN
CALSCALE:GREGORIAN
METHOD:PUBLISH
X-WR-CALNAME:International Siddhashram Shakti Centre
X-ORIGINAL-URL:https://siddhashram.com
X-WR-CALDESC:Events for International Siddhashram Shakti Centre
REFRESH-INTERVAL;VALUE=DURATION:PT1H
X-Robots-Tag:noindex
X-PUBLISHED-TTL:PT1H
BEGIN:VTIMEZONE
TZID:UTC
BEGIN:STANDARD
TZOFFSETFROM:+0000
TZOFFSETTO:+0000
TZNAME:UTC
DTSTART:20240101T000000
END:STANDARD
END:VTIMEZONE
BEGIN:VEVENT
DTSTART;TZID=UTC:20251002T080000
DTEND;TZID=UTC:20251002T170000
DTSTAMP:20260424T052624
CREATED:20251002T123840Z
LAST-MODIFIED:20251002T141855Z
UID:35842-1759392000-1759424400@siddhashram.com
SUMMARY:Dussehra celebration in Harrow - London.
DESCRIPTION:“Dussehra raas” presumably pertains to the celebration of the Hindu festival of Dussehra\, which is also called Vijaya Dashami or Dasara. While the term “raas” (or rās) isn’t explicitly found in the search results for Dussehra\, it might be an informal reference to the festivities or cultural performances\, like Ramlila\, held during this period to honor the victory of good over evil\, especially Lord Rama’s conquest over Ravana.
URL:https://siddhashram.com/event/dussehra-celebration-in-harrow-london/
LOCATION:Harrow Leisure Centre (Byron HAll)\, Christchurch Ave\, Harrow\, london\, HA3 5BD\, United Kingdom
CATEGORIES:Events,Our Recent Events,Recent Events V2
ATTACH;FMTTYPE=image/jpeg:https://siddhashram.com/wp-content/uploads/2025/10/web-evets-poster-10.jpg
ORGANIZER;CN="Int. Siddhashram Shakti Center%2C UK":MAILTO:events@siddhashram.com
END:VEVENT
END:VCALENDAR