BEGIN:VCALENDAR
VERSION:2.0
PRODID:-//International Siddhashram Shakti Centre - ECPv6.15.20//NONSGML v1.0//EN
CALSCALE:GREGORIAN
METHOD:PUBLISH
X-ORIGINAL-URL:https://siddhashram.com
X-WR-CALDESC:Events for International Siddhashram Shakti Centre
REFRESH-INTERVAL;VALUE=DURATION:PT1H
X-Robots-Tag:noindex
X-PUBLISHED-TTL:PT1H
BEGIN:VTIMEZONE
TZID:UTC
BEGIN:STANDARD
TZOFFSETFROM:+0000
TZOFFSETTO:+0000
TZNAME:UTC
DTSTART:20240101T000000
END:STANDARD
END:VTIMEZONE
BEGIN:VTIMEZONE
TZID:Europe/London
BEGIN:DAYLIGHT
TZOFFSETFROM:+0000
TZOFFSETTO:+0100
TZNAME:BST
DTSTART:20250330T010000
END:DAYLIGHT
BEGIN:STANDARD
TZOFFSETFROM:+0100
TZOFFSETTO:+0000
TZNAME:GMT
DTSTART:20251026T010000
END:STANDARD
BEGIN:DAYLIGHT
TZOFFSETFROM:+0000
TZOFFSETTO:+0100
TZNAME:BST
DTSTART:20260329T010000
END:DAYLIGHT
BEGIN:STANDARD
TZOFFSETFROM:+0100
TZOFFSETTO:+0000
TZNAME:GMT
DTSTART:20261025T010000
END:STANDARD
BEGIN:DAYLIGHT
TZOFFSETFROM:+0000
TZOFFSETTO:+0100
TZNAME:BST
DTSTART:20270328T010000
END:DAYLIGHT
BEGIN:STANDARD
TZOFFSETFROM:+0100
TZOFFSETTO:+0000
TZNAME:GMT
DTSTART:20271031T010000
END:STANDARD
END:VTIMEZONE
BEGIN:VEVENT
DTSTART;TZID=UTC:20251018T050000
DTEND;TZID=UTC:20251018T190000
DTSTAMP:20260421T194442
CREATED:20251017T124452Z
LAST-MODIFIED:20251017T124452Z
UID:35864-1760763600-1760814000@siddhashram.com
SUMMARY:Dhanatrayodashi (Dhanteras) special sadhana at Siddhashram\, Harrow\, London.
DESCRIPTION:Dhanatrayodashi\, commonly referred to as Dhanteras\, is the initial day of the Diwali or Tihar festival celebrated in most parts of India and Nepal. It falls on the thirteenth lunar day of Krishna Paksha in the Hindu lunar months of Ashwin or Kartika. A special ritual or sadhna is performed by HH Shri Rajrajeshwar Guruji at Siddhashram in Harrow\, London.
URL:https://siddhashram.com/event/dhanatrayodashi-dhanteras-special-sadhana-at-siddhashram-harrow-london/
LOCATION:international Siddhashram Shakti Centre\, 22 Palmerston Road\, Harrow\, london\, HA3 7RR\, United Kingdom
CATEGORIES:Events,Our Recent Events
ATTACH;FMTTYPE=image/jpeg:https://siddhashram.com/wp-content/uploads/2025/10/web-evets-poster-.jpg
ORGANIZER;CN="Int. Siddhashram Shakti Center%2C UK":MAILTO:events@siddhashram.com
END:VEVENT
BEGIN:VEVENT
DTSTART;TZID=UTC:20251025T170000
DTEND;TZID=UTC:20251025T190000
DTSTAMP:20260421T194442
CREATED:20251025T074859Z
LAST-MODIFIED:20251025T080156Z
UID:35869-1761411600-1761418800@siddhashram.com
SUMMARY:Heal your soul with the Hanuman Chalisa.
DESCRIPTION:Reciting the Hanuman Chalisa is thought to spiritually cleanse the soul by fostering inner peace\, strength\, and resilience. Devotees chant this 40-verse hymn to dispel negativity\, anxiety\, and obstacles\, resulting in emotional balance and a stronger spiritual bond. Consistent chanting is said to induce tranquility\, alleviate stress\, soothe the mind\, and decrease cortisol levels. Discover a unique method of chanting the Hanuman Chalisa with HH Shri Rajrajeshwar Guruji of Siddhashram in London. 
URL:https://siddhashram.com/event/heal-your-soul-with-the-hanuman-chalisa/
LOCATION:international Siddhashram Shakti Centre\, 22 Palmerston Road\, Harrow\, london\, HA3 7RR\, United Kingdom
CATEGORIES:Events,Our Recent Events
ATTACH;FMTTYPE=image/jpeg:https://siddhashram.com/wp-content/uploads/2025/10/web-evets-poster-1-1.jpg
ORGANIZER;CN="Int. Siddhashram Shakti Center%2C UK":MAILTO:events@siddhashram.com
END:VEVENT
BEGIN:VEVENT
DTSTART;TZID=UTC:20251101T170000
DTEND;TZID=UTC:20251101T193000
DTSTAMP:20260421T194442
CREATED:20251029T173822Z
LAST-MODIFIED:20251029T173935Z
UID:35891-1762016400-1762025400@siddhashram.com
SUMMARY:Healing through Hanuman Chalisa.
DESCRIPTION:  \n \nIt is believed that the Hanuman Chalisa possesses healing powers through its verses\, which are thought to provide protection from sickness and hardship\, enhance mental health\, and cultivate a positive outlook. Reciting the Chalisa is considered a means of guidance and a remedy for the mind\, functioning on spiritual and psychological levels to offer insight and foster harmony. This healing practice by HH Shri Rajrajeshwar Guruji takes place at Siddhashram Dham in Harrow.
URL:https://siddhashram.com/event/healing-through-hanuman-chalisa-2/
LOCATION:international Siddhashram Shakti Centre\, 22 Palmerston Road\, Harrow\, london\, HA3 7RR\, United Kingdom
CATEGORIES:Events,Our Recent Events
ATTACH;FMTTYPE=image/jpeg:https://siddhashram.com/wp-content/uploads/2025/10/web-evets-poster-1-2.jpg
ORGANIZER;CN="Int. Siddhashram Shakti Center%2C UK":MAILTO:events@siddhashram.com
END:VEVENT
BEGIN:VEVENT
DTSTART;TZID=UTC:20251102T030000
DTEND;TZID=UTC:20251102T170000
DTSTAMP:20260421T194442
CREATED:20251029T182022Z
LAST-MODIFIED:20251029T182031Z
UID:35895-1762052400-1762102800@siddhashram.com
SUMMARY:Bhajans
DESCRIPTION:
URL:https://siddhashram.com/event/bhajans/
LOCATION:international Siddhashram Shakti Centre\, 22 Palmerston Road\, Harrow\, london\, HA3 7RR\, United Kingdom
CATEGORIES:Events,Our Recent Events
ATTACH;FMTTYPE=image/jpeg:https://siddhashram.com/wp-content/uploads/2025/10/web-evets-poster-1-3.jpg
ORGANIZER;CN="Int. Siddhashram Shakti Center%2C UK":MAILTO:events@siddhashram.com
END:VEVENT
BEGIN:VEVENT
DTSTART;TZID=UTC:20251115T163000
DTEND;TZID=UTC:20251115T190000
DTSTAMP:20260421T194442
CREATED:20251112T155348Z
LAST-MODIFIED:20251112T155501Z
UID:35928-1763224200-1763233200@siddhashram.com
SUMMARY:Celebrating Sanatani Yatra in London.
DESCRIPTION:We are pleased to announce the celebration of the Sanataria Yatra\, organized by the Bageshwar Sarkar\, from Delhi to Vrindavan. During this Yatra\, HH Shri Rajrajeshwar Guruji was invited and graciously extended support on behalf of the community in the United Kingdom.
URL:https://siddhashram.com/event/celebrating-sanatani-yatra-in-london/
LOCATION:international Siddhashram Shakti Centre\, 22 Palmerston Road\, Harrow\, london\, HA3 7RR\, United Kingdom
CATEGORIES:Events,Our Recent Events
ATTACH;FMTTYPE=image/jpeg:https://siddhashram.com/wp-content/uploads/2025/11/web-evets-poster-.jpg
ORGANIZER;CN="Int. Siddhashram Shakti Center%2C UK":MAILTO:events@siddhashram.com
END:VEVENT
BEGIN:VEVENT
DTSTART;TZID=UTC:20251213T170000
DTEND;TZID=UTC:20251213T190000
DTSTAMP:20260421T194442
CREATED:20251211T224822Z
LAST-MODIFIED:20251213T110037Z
UID:36013-1765645200-1765652400@siddhashram.com
SUMMARY:Meditating on the Hanuman Chalisa with Guruji.
DESCRIPTION:Discover the profound benefits of chanting the Hanuman Chalisa as an integral part of your meditation practice by exploring insights shared by Spiritual Leader HH Shri Rajrajeshwar Guruji. When practiced with devotion and mindfulness\, chanting the Hanuman Chalisa can significantly deepen your meditation experience. It helps to soothe and calm the restless mind\, allowing for a state of inner peace and tranquility to emerge. The repetitive and melodious recitation acts as a powerful form of focused concentration\, reducing mental clutter and alleviating stress caused by daily life’s worries and anxieties. Beyond the immediate calming effects\, regularly engaging with the Hanuman Chalisa can strengthen your spiritual connection\, fostering a sense of devotion\, courage\, and resilience. \nHH Shri Rajrajeshwar Guruji emphasizes that this sacred hymn\, with its profound lyrics and divine energy\, serves as a catalyst for spiritual growth\, guiding practitioners toward higher consciousness and inner awakening. Incorporating this practice into your daily routine can transform your meditation into a more enriching and fulfilling journey\, helping you attain mental clarity\, emotional stability\, and a deeper sense of divine harmony. Special Guest Mahaguruji from Mumbai. 
URL:https://siddhashram.com/event/36013/
LOCATION:international Siddhashram Shakti Centre\, 22 Palmerston Road\, Harrow\, london\, HA3 7RR\, United Kingdom
CATEGORIES:Events,Our Recent Events
ATTACH;FMTTYPE=image/jpeg:https://siddhashram.com/wp-content/uploads/2025/12/web-evets-poster-1-2.jpg
ORGANIZER;CN="Int. Siddhashram Shakti Center%2C UK":MAILTO:events@siddhashram.com
END:VEVENT
BEGIN:VEVENT
DTSTART;TZID=UTC:20251220T050000
DTEND;TZID=UTC:20251220T190000
DTSTAMP:20260421T194442
CREATED:20251218T174104Z
LAST-MODIFIED:20251218T174105Z
UID:36037-1766206800-1766257200@siddhashram.com
SUMMARY:Celebrate Christmas and recite the Hanuman Chalisa.
DESCRIPTION:  \nLet’s come together to celebrate Christmas\, a significant religious and cultural holiday honoring the birth of Jesus Christ. It features traditions such as decorating trees\, giving and receiving gifts\, enjoying festive meals (like turkey and pudding)\, singing carols\, attending church services\, and engaging in secular festivities like pantomimes and light displays. Celebrated worldwide by billions\, it holds special \nreligious significance in Christianity\, commemorating Jesus as the Son of God. Religious observances include midnight Mass\, communion\, caroling (for example\, singing “Silent Night”)\, and Nativity plays. The season begins with Advent\, preparing for Christmastide. \nAdditionally\, join us in Hindu faith practices by chanting the Hanuman Chalisa with HH Shri Rajrajeshwar Guruji at the International Siddhashram Shakti Centre in Harrow\, London.
URL:https://siddhashram.com/event/celebrate-christmas-and-recite-the-hanuman-chalisa/
LOCATION:international Siddhashram Shakti Centre\, 22 Palmerston Road\, Harrow\, london\, HA3 7RR\, United Kingdom
CATEGORIES:Events,Our Recent Events
ATTACH;FMTTYPE=image/jpeg:https://siddhashram.com/wp-content/uploads/2025/12/web-evets-poster-1-3.jpg
ORGANIZER;CN="Int. Siddhashram Shakti Center%2C UK":MAILTO:events@siddhashram.com
END:VEVENT
BEGIN:VEVENT
DTSTART;TZID=UTC:20251227T170000
DTEND;TZID=UTC:20251227T190000
DTSTAMP:20260421T194442
CREATED:20251222T221759Z
LAST-MODIFIED:20251222T221759Z
UID:36043-1766854800-1766862000@siddhashram.com
SUMMARY:Guruji's Ritual for Protecting the Indian Coconut.
DESCRIPTION:  \n \nExperience the sacred Indian Coconut Protection Ritual\, beautifully guided by HH Shri Rajrajeshwar Guruji. This ancient Hindu tradition harnesses the divine power of the coconut—a vessel of purity and spiritual energy—to ward off negativity and usher in prosperity. Performed during times of new beginnings or special celebrations\, this ritual transforms everyday moments into a sacred harmony of cleansing and blessing. \nThough each guru may weave their own gentle touches into the practice\, the essence remains a heartfelt offering—using the humble coconut as a sacred symbol to purify the soul and invite auspicious blessings into your life.
URL:https://siddhashram.com/event/gurujis-ritual-for-protecting-the-indian-coconut/
LOCATION:international Siddhashram Shakti Centre\, 22 Palmerston Road\, Harrow\, london\, HA3 7RR\, United Kingdom
CATEGORIES:Events,Our Recent Events
ATTACH;FMTTYPE=image/jpeg:https://siddhashram.com/wp-content/uploads/2025/12/web-evets-poster-1-4.jpg
ORGANIZER;CN="Int. Siddhashram Shakti Center%2C UK":MAILTO:events@siddhashram.com
END:VEVENT
BEGIN:VEVENT
DTSTART;TZID=UTC:20260111T150000
DTEND;TZID=UTC:20260111T170000
DTSTAMP:20260421T194442
CREATED:20260105T194313Z
LAST-MODIFIED:20260105T194509Z
UID:36171-1768143600-1768150800@siddhashram.com
SUMMARY:Prayers and memorial hymns (Shradhanjali Bhajans) in honor of the late Dilip Chaubal.
DESCRIPTION:On behalf of the International Siddhashram Shakti Centre\, we extend our heartfelt prayers in memory of our Trustee and Public Relations Officer\, the late Mr. Dilip Chaubal. A memorial prayer meeting (Shardhanjali Bhajans) will be held in his honor\, in collaboration with Harrow Interfaith. We kindly invite you to join us in this sacred act of remembrance\, uniting our prayers for the peaceful departure of his soul.
URL:https://siddhashram.com/event/prayers-and-memorial-hymns-shradhanjali-bhajans-in-honor-of-the-late-dilip-chaubal/
LOCATION:london
CATEGORIES:Events,Our Recent Events
ATTACH;FMTTYPE=image/jpeg:https://siddhashram.com/wp-content/uploads/2026/01/dilip-chaubal--scaled-e1767641900746.jpg
END:VEVENT
BEGIN:VEVENT
DTSTART;TZID=UTC:20260116T110000
DTEND;TZID=UTC:20260116T130000
DTSTAMP:20260421T194442
CREATED:20260102T162033Z
LAST-MODIFIED:20260112T105223Z
UID:36158-1768561200-1768568400@siddhashram.com
SUMMARY:The blessing of Guruji in Leicester for the community.
DESCRIPTION:Let us commence the year 2026 with the benevolent and compassionate blessings of HH Shri Rajrajeshwar Guruji ( Founder of Int. Siddhashram Shakti Centre9UK\,India and USA)\, whose healing hands bring comfort\, restoration\, and spiritual upliftment to all who seek his guidance. As we step into this new year\, may his divine energy inspire us to attain greater clarity\, strength\, and harmony within ourselves\, paving the way for a year filled with growth\, serenity\, and enlightenment. \nTo further nurture our inner selves and cultivate a sense of holistic well-being\, we invite everyone to partake in a special morning gathering dedicated to cleansing the mind and soul through the transformative power of positivity\, purity\, and inner peace. This gathering is beautifully complemented by the soothing aroma of freshly brewed Geeta’s Chai and Coffee\, which serve not only as delightful morning delights but also as symbols of warmth\, connection\, and spiritual awakening. \nTogether\, with the blessings of Guruji and the comforting ritual of sharing tea and coffee\, we aim to set a powerful intention for 2026 — one of healing\, love\, and spiritual growth. Let this be a year where we prioritize mental clarity\, emotional well-being\, and the pursuit of inner peace\, guided by divine grace and the simple yet profound pleasure of a warm cup shared in community.
URL:https://siddhashram.com/event/the-blessing-of-guruji-in-leicester-for-the-community/
LOCATION:Rushey Mead Recreational Centre\, Gleneagles Ave\,\, Leicester\, LE4 7YJ\, United Kingdom
CATEGORIES:Events,Our Recent Events
ATTACH;FMTTYPE=image/jpeg:https://siddhashram.com/wp-content/uploads/2026/01/web-evets-poster-1-1.jpg
END:VEVENT
BEGIN:VEVENT
DTSTART;TZID=UTC:20260126T103000
DTEND;TZID=UTC:20260126T130000
DTSTAMP:20260421T194442
CREATED:20260119T230131Z
LAST-MODIFIED:20260119T230131Z
UID:36215-1769423400-1769432400@siddhashram.com
SUMMARY:Celebration of India's Republic Day in the UK.
DESCRIPTION:Invitation – Celebrate Republic Day 2026 at Int. Siddhashram Shakti Centre – UKRepublic Day is more than just a national event; it is a tribute to the day our Constitution was enacted\, transforming India into the world’s largest democracy. It serves as a occasion to honour the principles that define us and to acknowledge the ongoing progress we achieve collectively.
URL:https://siddhashram.com/event/celebration-of-indias-republic-day-in-the-uk/
LOCATION:international Siddhashram Shakti Centre\, 22 Palmerston Road\, Harrow\, london\, HA3 7RR\, United Kingdom
CATEGORIES:Events,Our Recent Events,Recent Events V2
ATTACH;FMTTYPE=image/jpeg:https://siddhashram.com/wp-content/uploads/2026/01/web-evets-poster-1-3.jpg
ORGANIZER;CN="Int. Siddhashram Shakti Center%2C UK":MAILTO:events@siddhashram.com
END:VEVENT
BEGIN:VEVENT
DTSTART;TZID=Europe/London:20260307T170000
DTEND;TZID=Europe/London:20260307T190000
DTSTAMP:20260421T194442
CREATED:20260304T234415Z
LAST-MODIFIED:20260307T080319Z
UID:36493-1772902800-1772910000@siddhashram.com
SUMMARY:Hanuman Chalisa Healing in London.
DESCRIPTION:The Hanuman Chalisa is highly esteemed within Hindu tradition for its significant healing properties\, providing both spiritual and psychological nourishment. Regular recitation is believed to invoke the protective blessings of Lord Hanuman\, who is revered as the “God of Life\,” thereby enhancing one’s vital energy. \nKey Healing Advantages:\n– Physical Protection: Chanting is purported to bestow divine safeguarding against ailments\, pain\, and physical hardships.\n– Mental Serenity: It is commonly employed to alleviate anxiety\, depression\, and stress\, thereby promoting a sense of inner tranquility. \nThis workshop is conducted under the guidance of Spiritual Leader HH Shri Rajrajeshwar Guruji.
URL:https://siddhashram.com/event/hanuman-chalisa-healing-in-london/
LOCATION:international Siddhashram Shakti Centre\, 22 Palmerston Road\, Harrow\, london\, HA3 7RR\, United Kingdom
CATEGORIES:Events,Our Recent Events,Recent Events V2
ATTACH;FMTTYPE=image/jpeg:https://siddhashram.com/wp-content/uploads/2026/01/IMG_4170-scaled.jpg
ORGANIZER;CN="Int. Siddhashram Shakti Center%2C UK":MAILTO:events@siddhashram.com
END:VEVENT
BEGIN:VEVENT
DTSTART;TZID=Europe/London:20260327T110000
DTEND;TZID=Europe/London:20260327T130000
DTSTAMP:20260421T194442
CREATED:20260313T110021Z
LAST-MODIFIED:20260317T223210Z
UID:36571-1774609200-1774616400@siddhashram.com
SUMMARY:Shri Ram Navami Celebrations.
DESCRIPTION:Shri Ram Navami\, which commemorates the birth of Lord Rama\, is celebrated with great enthusiasm across India during March or April. Devotees engage in special prayers\, fast\, chant “Ram Naam\,” read the Ramayana\, and participate in processions (ratha yatra) featuring idols of Rama\, Sita\, Lakshmana\, and Hanuman\, especially in Ayodhya. \n\nAt the International Siddhashram Shakti Centre in Harrow\, London\, Spiritual and Community Leader HH Shri Rajrajeshwar Guruji conducts Satsang and Bhajans for the community\, promoting peace and harmony.
URL:https://siddhashram.com/event/embrace-ramnavmi-traditions-at-siddhashram-festival/
LOCATION:international Siddhashram Shakti Centre\, 22 Palmerston Road\, Harrow\, london\, HA3 7RR\, United Kingdom
CATEGORIES:Events,Our Recent Events,Recent Events V2
ATTACH;FMTTYPE=image/jpeg:https://siddhashram.com/wp-content/uploads/2026/03/web-evets-poster-1-4.jpg
ORGANIZER;CN="Int. Siddhashram Shakti Center%2C UK":MAILTO:events@siddhashram.com
END:VEVENT
END:VCALENDAR