BEGIN:VCALENDAR
VERSION:2.0
PRODID:-//International Siddhashram Shakti Centre - ECPv6.15.20//NONSGML v1.0//EN
CALSCALE:GREGORIAN
METHOD:PUBLISH
X-ORIGINAL-URL:https://siddhashram.com
X-WR-CALDESC:Events for International Siddhashram Shakti Centre
REFRESH-INTERVAL;VALUE=DURATION:PT1H
X-Robots-Tag:noindex
X-PUBLISHED-TTL:PT1H
BEGIN:VTIMEZONE
TZID:UTC
BEGIN:STANDARD
TZOFFSETFROM:+0000
TZOFFSETTO:+0000
TZNAME:UTC
DTSTART:20240101T000000
END:STANDARD
END:VTIMEZONE
BEGIN:VEVENT
DTSTART;TZID=UTC:20250816T200000
DTEND;TZID=UTC:20250817T000000
DTSTAMP:20260421T091726
CREATED:20250807T151917Z
LAST-MODIFIED:20250811T064315Z
UID:35619-1755374400-1755388800@siddhashram.com
SUMMARY:Celebration of Lord Krishna's Janmashtami at Siddhashram - London.
DESCRIPTION:The International Siddhashram Shakti Centre is dedicated to fostering spiritual growth and charitable initiatives that empower individuals and communities. Established with the vision of promoting well-being and enlightenment\, this center serves as a sanctuary for those seeking spiritual guidance. Through various programs and workshops\, the center provides resources aimed at personal development and community support. \nUnderstanding the Role of Siddhashram in Spiritual Growth\nOn Saturday\, August 16th\, Krishna Janmashtami—also known as Gokulashtami or Srikrishna Jayanti—is a Hindu festival that honors the birth of Lord Krishna\, the eighth incarnation of Lord Vishnu. This vibrant two-day celebration includes singing\, dancing\, and reenactments of Krishna’s life. \n\nOur Siddhashram Youth Club members will be performing several cultural folk dances\, which will be broadcast live on Sanksar TV\, channel 719. Additionally\, there will be bhajans and Satsang led by HH Shri Rajrajeshwar Guruji and his team from India.
URL:https://siddhashram.com/event/janmasthmi/
LOCATION:international Siddhashram Shakti Centre\, 22 Palmerston Road\, Harrow\, london\, HA3 7RR\, United Kingdom
CATEGORIES:Events,Our Recent Events
ATTACH;FMTTYPE=image/jpeg:https://siddhashram.com/wp-content/uploads/2025/08/krishna-janam-.jpg
ORGANIZER;CN="Int. Siddhashram Shakti Center%2C UK":MAILTO:events@siddhashram.com
END:VEVENT
END:VCALENDAR