BEGIN:VCALENDAR
VERSION:2.0
PRODID:-//International Siddhashram Shakti Centre - ECPv6.15.20//NONSGML v1.0//EN
CALSCALE:GREGORIAN
METHOD:PUBLISH
X-ORIGINAL-URL:https://siddhashram.com
X-WR-CALDESC:Events for International Siddhashram Shakti Centre
REFRESH-INTERVAL;VALUE=DURATION:PT1H
X-Robots-Tag:noindex
X-PUBLISHED-TTL:PT1H
BEGIN:VTIMEZONE
TZID:UTC
BEGIN:STANDARD
TZOFFSETFROM:+0000
TZOFFSETTO:+0000
TZNAME:UTC
DTSTART:20240101T000000
END:STANDARD
END:VTIMEZONE
BEGIN:VEVENT
DTSTART;TZID=UTC:20250728T190000
DTEND;TZID=UTC:20250728T210000
DTSTAMP:20260421T091712
CREATED:20250727T230048Z
LAST-MODIFIED:20250728T071500Z
UID:35586-1753729200-1753736400@siddhashram.com
SUMMARY:Shavana Ke Shivbhajans
DESCRIPTION:  \n \n  \nParticipating in the bhajans\, or hymns sung during the month of Sawan (also known as Shravan)\, carries great significance as they enable devotees to connect with Lord Shiva and seek his blessings. This month is considered extremely auspicious in Hinduism\, particularly for the worship of Shiva\, and singing bhajans is a common practice that fosters devotion and encourages spiritual growth. These bhajans are performed by HH Shri Rajrajeshwar Guruji at Siddhashram in London\, alongside holy saints from India.
URL:https://siddhashram.com/event/shavana-ke-shivbhajans/
LOCATION:international Siddhashram Shakti Centre\, 22 Palmerston Road\, Harrow\, london\, HA3 7RR\, United Kingdom
CATEGORIES:Events,Our Recent Events
ATTACH;FMTTYPE=image/jpeg:https://siddhashram.com/wp-content/uploads/2025/07/Bhajans-JUly--scaled-e1753690491587.jpg
ORGANIZER;CN="Int. Siddhashram Shakti Center%2C UK":MAILTO:events@siddhashram.com
END:VEVENT
END:VCALENDAR