BEGIN:VCALENDAR
VERSION:2.0
PRODID:-//International Siddhashram Shakti Centre - ECPv6.15.20//NONSGML v1.0//EN
CALSCALE:GREGORIAN
METHOD:PUBLISH
X-ORIGINAL-URL:https://siddhashram.com
X-WR-CALDESC:Events for International Siddhashram Shakti Centre
REFRESH-INTERVAL;VALUE=DURATION:PT1H
X-Robots-Tag:noindex
X-PUBLISHED-TTL:PT1H
BEGIN:VTIMEZONE
TZID:UTC
BEGIN:STANDARD
TZOFFSETFROM:+0000
TZOFFSETTO:+0000
TZNAME:UTC
DTSTART:20240101T000000
END:STANDARD
END:VTIMEZONE
BEGIN:VEVENT
DTSTART;TZID=UTC:20250510T180000
DTEND;TZID=UTC:20250510T190000
DTSTAMP:20260421T123858
CREATED:20250509T134142Z
LAST-MODIFIED:20250509T162931Z
UID:35253-1746900000-1746903600@siddhashram.com
SUMMARY:A prayer for peace of mind\, chanting the Hanuman Chalisa.
DESCRIPTION:  \nJoin us in a serene gathering as we unite in prayers for Peace of Mind\, chanting the Hanuman Chalisa under the guidance of HH Shri Rajrajeshwar Guruji. Experience tranquility at Siddhashram\, nestled in the heart of Harrow\, London. Let’s embrace this sacred moment together!
URL:https://siddhashram.com/event/a-prayer-for-peace-of-mind-chanting-the-hanuman-chalisa/
LOCATION:international Siddhashram Shakti Centre\, 22 Palmerston Road\, Harrow\, london\, HA3 7RR\, United Kingdom
CATEGORIES:Events,Our Recent Events
ATTACH;FMTTYPE=image/jpeg:https://siddhashram.com/wp-content/uploads/2025/05/Hanuman-.jpg
ORGANIZER;CN="Int. Siddhashram Shakti Center%2C UK":MAILTO:events@siddhashram.com
END:VEVENT
END:VCALENDAR