BEGIN:VCALENDAR
VERSION:2.0
PRODID:-//International Siddhashram Shakti Centre - ECPv6.15.20//NONSGML v1.0//EN
CALSCALE:GREGORIAN
METHOD:PUBLISH
X-ORIGINAL-URL:https://siddhashram.com
X-WR-CALDESC:Events for International Siddhashram Shakti Centre
REFRESH-INTERVAL;VALUE=DURATION:PT1H
X-Robots-Tag:noindex
X-PUBLISHED-TTL:PT1H
BEGIN:VTIMEZONE
TZID:UTC
BEGIN:STANDARD
TZOFFSETFROM:+0000
TZOFFSETTO:+0000
TZNAME:UTC
DTSTART:20240101T000000
END:STANDARD
END:VTIMEZONE
BEGIN:VEVENT
DTSTART;TZID=UTC:20250412T093000
DTEND;TZID=UTC:20250412T163000
DTSTAMP:20260421T132721
CREATED:20250327T002324Z
LAST-MODIFIED:20250327T002505Z
UID:35064-1744450200-1744475400@siddhashram.com
SUMMARY:Hanuman Jayanti with 108 Chalisas for Global Peace and Harmony.
DESCRIPTION:Welcome to Siddhashram Dham in Harrow. Reciting the Hanuman Chalisa even just once can help eliminate negative influences and bring blessings to you and your family. The number 108 holds special importance. Chanting the Hanuman Chalisa 108 times daily or weekly can liberate the devotee from the cycle of life and death\, granting them immense spiritual joy.
URL:https://siddhashram.com/event/hanuman-jayanti-with-108-chalisas-for-global-peace-and-harmony/
LOCATION:international Siddhashram Shakti Centre\, 22 Palmerston Road\, Harrow\, london\, HA3 7RR\, United Kingdom
CATEGORIES:Events,Our Recent Events
ATTACH;FMTTYPE=image/jpeg:https://siddhashram.com/wp-content/uploads/2025/03/HJ-.jpg
ORGANIZER;CN="Int. Siddhashram Shakti Center%2C UK":MAILTO:events@siddhashram.com
END:VEVENT
END:VCALENDAR