BEGIN:VCALENDAR
VERSION:2.0
PRODID:-//International Siddhashram Shakti Centre - ECPv6.15.20//NONSGML v1.0//EN
CALSCALE:GREGORIAN
METHOD:PUBLISH
X-ORIGINAL-URL:https://siddhashram.com
X-WR-CALDESC:Events for International Siddhashram Shakti Centre
REFRESH-INTERVAL;VALUE=DURATION:PT1H
X-Robots-Tag:noindex
X-PUBLISHED-TTL:PT1H
BEGIN:VTIMEZONE
TZID:Europe/London
BEGIN:DAYLIGHT
TZOFFSETFROM:+0000
TZOFFSETTO:+0100
TZNAME:BST
DTSTART:20250330T010000
END:DAYLIGHT
BEGIN:STANDARD
TZOFFSETFROM:+0100
TZOFFSETTO:+0000
TZNAME:GMT
DTSTART:20251026T010000
END:STANDARD
BEGIN:DAYLIGHT
TZOFFSETFROM:+0000
TZOFFSETTO:+0100
TZNAME:BST
DTSTART:20260329T010000
END:DAYLIGHT
BEGIN:STANDARD
TZOFFSETFROM:+0100
TZOFFSETTO:+0000
TZNAME:GMT
DTSTART:20261025T010000
END:STANDARD
BEGIN:DAYLIGHT
TZOFFSETFROM:+0000
TZOFFSETTO:+0100
TZNAME:BST
DTSTART:20270328T010000
END:DAYLIGHT
BEGIN:STANDARD
TZOFFSETFROM:+0100
TZOFFSETTO:+0000
TZNAME:GMT
DTSTART:20271031T010000
END:STANDARD
END:VTIMEZONE
BEGIN:VEVENT
DTSTART;TZID=Europe/London:20260328T170000
DTEND;TZID=Europe/London:20260328T210000
DTSTAMP:20260420T142636
CREATED:20260321T084423Z
LAST-MODIFIED:20260321T085522Z
UID:36616-1774717200-1774731600@siddhashram.com
SUMMARY:Divine Mata Ji Bhajans & Hanuman Ji Insights by Guruji & Team
DESCRIPTION:Discovering devotional music that blends Mata Ji Bhajans (hymns dedicated to the Divine Mother) with the Hanuman Chalisa is a popular way to honor the connection between Shakti and her devotee Hanuman\, particularly during festivals such as Navratri\, in the presence of HH Shri Rajrajeshwar Guruji. The performance features singer Disha Patel and her team from India\, Sponsored by Shiv Events. 
URL:https://siddhashram.com/event/harmonious-bhajans-hanuman-chalisa-mata-ji/
LOCATION:international Siddhashram Shakti Centre\, 22 Palmerston Road\, Harrow\, london\, HA3 7RR\, United Kingdom
CATEGORIES:Events,Recent Events V2
ATTACH;FMTTYPE=image/jpeg:https://siddhashram.com/wp-content/uploads/2026/03/web-evets-poster-1-5.jpg
ORGANIZER;CN="Int. Siddhashram Shakti Center%2C UK":MAILTO:events@siddhashram.com
END:VEVENT
END:VCALENDAR